BEGIN:VCALENDAR
VERSION:2.0
PRODID:-//ChamberMaster//Event Calendar 2.0//EN
METHOD:PUBLISH
X-PUBLISHED-TTL:P3D
REFRESH-INTERVAL:P3D
CALSCALE:GREGORIAN
BEGIN:VEVENT
DTSTART:20260508T123000Z
DTEND:20260508T140000Z
X-MICROSOFT-CDO-ALLDAYEVENT:FALSE
SUMMARY:CONNECT W/ COFFEE MAY
DESCRIPTION:JOIN US AT THE AFFTON/SOUTHWEST POLICE PRECINCT FOR OUR MAY CONNECT W/ COFFEE.  This is a fantastic opportunity to stop by on your way to work and engage with fellow chamber members.
X-ALT-DESC;FMTTYPE=text/html:<span style="font-size: 14px\;"><strong>JOIN US AT THE AFFTON/SOUTHWEST POLICE PRECINCT FOR OUR MAY CONNECT W/ COFFEE.&nbsp\;&nbsp\;</strong></span><span style="white-space: pre-wrap\; color: rgb(54\, 54\, 54)\; font-family: Tahoma\, Geneva\, sans-serif\; font-size: 16px\;">This is a fantastic opportunity to stop by on your way to work and engage with fellow chamber members.</span>
LOCATION:AFFTON/SOUTHWEST POLICE PRECINCT 11500 GRAVOIS ROAD ST. LOUIS 63126
UID:e.3099.4384
SEQUENCE:3
DTSTAMP:20260422T192718Z
URL:https://www.ourchamber.com/events/details/connect-w-coffee-may-4384
END:VEVENT

END:VCALENDAR
